BEGIN:VCALENDAR
VERSION:2.0
PRODID:wirtschaft.gruene-nrw-lag.de
METHOD:PUBLISH
BEGIN:VTIMEZONE
TZID:Europe/Berlin
X-LIC-LOCATION:Europe/Berlin
BEGIN:DAYLIGHT
TZOFFSETFROM:+0100
TZOFFSETTO:+0200
TZNAME:CEST
DTSTART:19700329T020000
RRULE:FREQ=YEARLY;INTERVAL=1;BYDAY=-1SU;BYMONTH=3
END:DAYLIGHT
BEGIN:STANDARD
TZOFFSETFROM:+0200
TZOFFSETTO:+0100
TZNAME:CET
DTSTART:19701025T030000
RRULE:FREQ=YEARLY;INTERVAL=1;BYDAY=-1SU;BYMONTH=10
END:STANDARD
END:VTIMEZONE
BEGIN:VEVENT
UID:d789a8fb687a12767e9a816a7c1e87f1@wirtschaft.gruene-nrw-lag.de
URL;VALUE=URI:https://wirtschaft.gruene-nrw-lag.de/termine/2-werkstattges
 praech-gemeinwohl-oekonomie-nrw/
LOCATION:Landtag NRW (Raum E01D05), Düsseldorf
SUMMARY:2. Werkstattgespräch Gemeinwohl-Ökonomie NRW
DESCRIPTION;ALTREP="data:text/html,Liebe%20Freund%2Ainnen%20der%20LAG%20W
 irtschaft%2C%0D%0A%0D%0Agerne%20leiten%20wir%20euch%20die%20nachfolgende%
 20Einladung%20zum%20zweiten%20Werkstattgespr%C3%A4ch%20zur%20Gemeinwohl-%
 C3%96konomie%20NRW%20von%20und%20mit%20Antje%20Grothus%20und%20Gregor%20K
 aiser%20weiter%3A%0D%0A%0D%0A%3Ca%20href%3D%22https%3A%2F%2Fwirtschaft.gr
 uene-nrw-lag.de%2Ffiles%2F2024%2F01%2F20240202_Werkstattgespraeche-Gemein
 wohl-Oekonomie_Programm.pdf%22%3EProgramm%20Werkstattgespra%CC%88che%20Ge
 meinwohl%20%C3%96konomie%3C%2Fa%3E%0D%0A%0D%0A___________________________
 __________________________________________%0D%0A%0D%0ALiebe%20Freund%2Ain
 nen%2C%20kritische%20Denker%2Ainnen%20und%20Gestalter%2Ainnen%2C%0D%0A%0D
 %0A%3Cstrong%3Eam%20Freitag%20den%202.%20Februar%202024%20geht%20es%20wei
 ter%20mit%20den%20Werkstattgespr%C3%A4chen%20Gemeinwohl-%C3%96konomie%20N
 RW.%3C%2Fstrong%3E%0D%0A%0D%0AWir%2C%20Antje%20und%20Gregor%2C%20laden%20
 Sie%2FEuch%20herzlich%20zur%20Teilnahme%20ein%21%20Gemeinsam%20mit%20der%
 20Landtagsfraktion%20in%20NRW%20wollen%20wir%20die%20Werkstattgespr%C3%A4
 che%20nutzen%2C%20um%20mit%20Vertreter%2Ainnen%20der%20Wissenschaft%2C%20
 Wirtschaft%2C%20Zivilgesellschaft%2C%20Verwaltung%20und%20Politik%20die%2
 0Rolle%20der%20Gemeinwohl%C3%B6konomie%20f%C3%BCr%20ein%20Wirtschaften%20
 innerhalb%20planetarer%20Grenzen%20zu%20diskutieren.%0D%0A%3Col%20start%3
 D%222%22%3E%0D%0A%20%09%3Cli%3EWerkstattgespr%C3%A4ch%20Gemeinwohl-%C3%96
 konomie%20NRW%20am%202.%20Februar%2C%2015-19%20Uhr%20im%20Landtag%20NRW%3
 A%3C%2Fli%3E%0D%0A%3C%2Fol%3E%0D%0A%3Cstrong%3E%E2%80%9EGemeinwohlorienti
 ertes%20Handeln%20in%20NRWs%20Unternehmen%20und%20Kommunen%3A%20Herausfor
 derungen%2C%20Chancen%20und%20Forderungen.%20Mit%20Pionieren%20diskutiere
 n%3A%20Wie%20w%C3%A4chst%20das%20Gemeinwohl%20aus%20der%20Nische%20in%20d
 ie%20Breite%3F%E2%80%9C%3C%2Fstrong%3E%0D%0A%0D%0AGemeinsam%20wollen%20wi
 r%20uns%20fragen%3A%0D%0A%3Cul%3E%0D%0A%20%09%3Cli%3EWas%20bedeutet%20Gem
 einwohlorientiertes%20Wirtschaften%20f%C3%BCr%20Unternehmen%20von%20KMU%2
 0bis%20zum%20Gro%C3%9Funternehmen%3F%3C%2Fli%3E%0D%0A%20%09%3Cli%3EWelche
 %20Rolle%20spielt%20Gemeinwohl-%C3%96konomie%20in%20der%20Organisationsen
 twicklung%20und%20der%20Erarbeitung%20zukunftsf%C3%A4higer%20Gesch%C3%A4f
 tsmodelle%3F%3C%2Fli%3E%0D%0A%20%09%3Cli%3EK%C3%B6nnen%20Gemeinwohlzertif
 izierung%20und%20Nachhaltigkeitsstrategie%20in%20Kommunen%20zusammengedac
 ht%20werden%3F%3C%2Fli%3E%0D%0A%3C%2Ful%3E%0D%0ADie%20Veranstaltung%20fin
 det%20im%20Landtag%20NRW%20von%2015%20bis%2019%20Uhr%20statt.%20%3Cstrong
 %3EDas%20Programm%20ist%20dieser%20Einladung%20beigef%C3%BCgt%3C%2Fstrong
 %3E.%0D%0A%0D%0AInformationen%20zur%20Anmeldung%20finden%20sich%20weiter%
 20unten.%0D%0A%0D%0A%26nbsp%3B%0D%0A%0D%0AWir%20freuen%20uns%20auf%20Ihre
 %2FEure%20Teilnahme%21%0D%0A%0D%0AHerzlichst%0D%0A%0D%0AAntje%20Grothus%2
 0und%20Gregor%20Kaiser%0D%0A%0D%0AAbgeordnete%20der%20Gr%C3%BCnen%20Frakt
 ion%20im%20Landtag%20NRW%0D%0A%0D%0A%26nbsp%3B%0D%0A%0D%0A%3Cstrong%3EAnm
 eldung%3C%2Fstrong%3E%0D%0A%0D%0AUm%20am%20Werkstattgespr%C3%A4ch%20teilz
 unehmen%20und%20Einlass%20in%20den%20Landtag%20zu%20erhalten%2C%20ist%20e
 ine%20Anmeldung%20unter%20Nennung%20des%20Betreffs%20%E2%80%9EAnmeldung%2
 0GW%C3%96%E2%80%9C%20erforderlich.%20Wir%20bitten%20um%20Anmeldung%20%28V
 or-%2FNachname%2C%20Adresse%2C%20Telefonnummer%29%20bis%20zum%20%3Cstrong
 %3E26.01.2024%20an%3A%20%3Ca%20href%3D%22mailto%3Aantje.grothus.buero%40l
 andtag.nrw.de%22%3Eantje.grothus.buero%40landtag.nrw.de%3C%2Fa%3E.%3C%2Fs
 trong%3E%0D%0A%0D%0A%3Cem%3EIhre%20Anmeldung%20und%20Daten%20werden%20f%C
 3%BCr%20den%20Einlass%20in%20den%20Landtag%20und%20die%20Organisation%20d
 er%20Veranstaltung%20ben%C3%B6tigt%20und%20im%20Nachgang%20zur%20Veransta
 ltung%20gel%C3%B6scht.%20An%20dieser%20Stelle%20m%C3%B6chten%20wir%20dara
 uf%20hinweisen%2C%20dass%20bei%20der%20Veranstaltung%20Foto-%20und%20Vide
 oaufnahmen%20gemacht%20werden.%3C%2Fem%3E%0D%0A%0D%0A%3Cstrong%3EVeransta
 ltungsreihe%20%E2%80%9EGr%C3%BCne%20Werkstattgespr%C3%A4che%20Gemeinwohl%
 3C%2Fstrong%3E%3Cstrong%3E-%C3%96%3C%2Fstrong%3E%3Cstrong%3Ekonomie%20NRW
 %E2%80%9C%3C%2Fstrong%3E%0D%0A%0D%0AZiel%20der%20Veranstaltungsreihe%20is
 t%20es%2C%20gemeinsam%20mit%20Wissenschaft%2C%20Wirtschaft%2C%20Zivilgese
 llschaft%20und%20Politik%20die%20Handlungsm%C3%B6glichkeiten%20der%20Geme
 inwohl-%C3%96konomie%20%28GW%C3%96%29%20in%20NRW%20auszuloten%20und%20par
 lamentarische%20Hebel%20auf%20dem%20Weg%20zu%20einer%20starken%20GW%C3%96
 %20in%20NRW%20zu%20identifizieren.%20Wir%20wollen%20gemeinsam%20den%20Dia
 log%20%C3%B6ffnen%2C%20eine%20gemeinsame%20Wissensbasis%20schaffen%20und%
 20gemeinsame%20Handlungsfelder%20erschlie%C3%9Fen.%20Wir%20wollen%20die%2
 0Rahmenbedingungen%20ausloten%2Fschaffen%2C%20in%20denen%20Wirtschaften%2
 0innerhalb%20der%20planetaren%20Grenzen%20wettbewerbsf%C3%A4hig%20wird%20
 und%20dem%20Gemeinwohl%20dient.%0D%0A%0D%0AGemeinsam%20wollen%20wir%20uns
 %20fragen%3A%0D%0A%3Cul%3E%0D%0A%20%09%3Cli%3EWelche%20Vorteile%20haben%2
 0Unternehmen%20durch%20die%20Gemeinwohl%C3%B6konomie%3F%20Wie%20k%C3%B6nn
 en%20sie%20ihren%20USP%20verbessern%3F%3C%2Fli%3E%0D%0A%20%09%3Cli%3EWelc
 he%20Benefits%20bestehen%20gegen%C3%BCber%20anderen%20Zertifizierungssyst
 emen%3F%3C%2Fli%3E%0D%0A%20%09%3Cli%3EWelche%20Rahmenbedingungen%20brauch
 en%20GW%C3%96%20orientierte%20Unternehmen%2C%20um%20ihre%20Wettbewerbsf%C
 3%A4higkeit%20erhalten%20zu%20k%C3%B6nnen%3F%3C%2Fli%3E%0D%0A%20%09%3Cli%
 3EWie%20werden%20GW%C3%96%20Unternehmen%20zu%20Multiplikatoren%20der%20so
 zial-%C3%B6kologischen%20Transformation%3F%3C%2Fli%3E%0D%0A%20%09%3Cli%3E
 Wie%20k%C3%B6nnen%20die%20Unternehmen%20in%20NRW%20sich%20mithilfe%20der%
 20GW%C3%96%20auf%20die%20sich%20mittelfristig%20ver%C3%A4ndernden%20Rahme
 nbedingungen%20durch%20die%20EU%20vorbereiten%3F%3C%2Fli%3E%0D%0A%3C%2Ful
 %3E%0D%0ADie%20Veranstaltungsreihe%20wird%20sich%20dem%20Thema%20in%20dre
 i%20Schritten%20n%C3%A4hern%3A%0D%0A%3Col%3E%0D%0A%20%09%3Cli%3EIm%20Nove
 mber%202023%20wurden%20die%20Grundlagen%20der%20Gemeinwohl-%C3%96konomie%
 20und%20des%20Wirtschaftens%20innerhalb%20planetarer%20Grenzen%20gelegt.%
 3C%2Fli%3E%0D%0A%20%09%3Cli%3EIm%20Februar%202024%20wird%20der%20Blick%20
 auf%20die%20Unternehmerpraxis%20in%20NRW%20geworfen%20und%20die%20Herausf
 orderungen%2C%20Chancen%20und%20Forderungen%20aus%20der%20Praxisperspekti
 ve%20erarbeitet.%3C%2Fli%3E%0D%0A%20%09%3Cli%3EIm%20Juni%202024%20wird%20
 es%20um%20die%20Rolle%20des%20Parlaments%20in%20der%20sozial-%C3%B6kologi
 schen%20Wirtschaftstransformation%20gehen.%20Es%20werden%20die%20Theorie-
 %20und%20Praxisperspektiven%20der%20ersten%20Termine%20zusammengef%C3%BCh
 rt.%3C%2Fli%3E%0D%0A%3C%2Fol%3E":Liebe Freund*innen der LAG Wirtschaft\,\
 n\ngerne leiten wir euch die nachfolgende Einladung zum zweiten Werkstatt
 gespräch zur Gemeinwohl-Ökonomie NRW von und mit Antje Grothus und Greg
 or Kaiser weiter:\n\nProgramm Werkstattgespräche Gemeinwohl Ökonomie\n
 \n_____________________________________________________________________\n
 \nLiebe Freund*innen\, kritische Denker*innen und Gestalter*innen\,\n\nam
  Freitag den 2. Februar 2024 geht es weiter mit den Werkstattgesprächen 
 Gemeinwohl-Ökonomie NRW.\n\nWir\, Antje und Gregor\, laden Sie/Euch herz
 lich zur Teilnahme ein! Gemeinsam mit der Landtagsfraktion in NRW wollen 
 wir die Werkstattgespräche nutzen\, um mit Vertreter*innen der Wissensch
 aft\, Wirtschaft\, Zivilgesellschaft\, Verwaltung und Politik die Rolle d
 er Gemeinwohlökonomie für ein Wirtschaften innerhalb planetarer Grenzen
  zu diskutieren.\n\n 	Werkstattgespräch Gemeinwohl-Ökonomie NRW am 2. F
 ebruar\, 15-19 Uhr im Landtag NRW:\n\n„Gemeinwohlorientiertes Handeln i
 n NRWs Unternehmen und Kommunen: Herausforderungen\, Chancen und Forderun
 gen. Mit Pionieren diskutieren: Wie wächst das Gemeinwohl aus der Nische
  in die Breite?“\n\nGemeinsam wollen wir uns fragen:\n\n 	Was bedeutet 
 Gemeinwohlorientiertes Wirtschaften für Unternehmen von KMU bis zum Gro
 ßunternehmen?\n\n 	Welche Rolle spielt Gemeinwohl-Ökonomie in der Organ
 isationsentwicklung und der Erarbeitung zukunftsfähiger Geschäftsmodell
 e?\n\n 	Können Gemeinwohlzertifizierung und Nachhaltigkeitsstrategie in 
 Kommunen zusammengedacht werden?\n\nDie Veranstaltung findet im Landtag N
 RW von 15 bis 19 Uhr statt. Das Programm ist dieser Einladung beigefügt.
 \n\nInformationen zur Anmeldung finden sich weiter unten.\n\n \n\nWir fr
 euen uns auf Ihre/Eure Teilnahme!\n\nHerzlichst\n\nAntje Grothus und Greg
 or Kaiser\n\nAbgeordnete der Grünen Fraktion im Landtag NRW\n\n \n\nAnm
 eldung\n\nUm am Werkstattgespräch teilzunehmen und Einlass in den Landta
 g zu erhalten\, ist eine Anmeldung unter Nennung des Betreffs „Anmeldun
 g GWÖ“ erforderlich. Wir bitten um Anmeldung (Vor-/Nachname\, Adresse\
 , Telefonnummer) bis zum 26.01.2024 an: antje.grothus.buero@landtag.nrw.d
 e.\n\nIhre Anmeldung und Daten werden für den Einlass in den Landtag und
  die Organisation der Veranstaltung benötigt und im Nachgang zur Veranst
 altung gelöscht. An dieser Stelle möchten wir darauf hinweisen\, dass b
 ei der Veranstaltung Foto- und Videoaufnahmen gemacht werden.\n\nVeransta
 ltungsreihe „Grüne Werkstattgespräche Gemeinwohl-Ökonomie NRW“\n\n
 Ziel der Veranstaltungsreihe ist es\, gemeinsam mit Wissenschaft\, Wirtsc
 haft\, Zivilgesellschaft und Politik die Handlungsmöglichkeiten der Geme
 inwohl-Ökonomie (GWÖ) in NRW auszuloten und parlamentarische Hebel auf 
 dem Weg zu einer starken GWÖ in NRW zu identifizieren. Wir wollen gemein
 sam den Dialog öffnen\, eine gemeinsame Wissensbasis schaffen und gemein
 same Handlungsfelder erschließen. Wir wollen die Rahmenbedingungen auslo
 ten/schaffen\, in denen Wirtschaften innerhalb der planetaren Grenzen wet
 tbewerbsfähig wird und dem Gemeinwohl dient.\n\nGemeinsam wollen wir uns
  fragen:\n\n 	Welche Vorteile haben Unternehmen durch die Gemeinwohlökon
 omie? Wie können sie ihren USP verbessern?\n\n 	Welche Benefits bestehen
  gegenüber anderen Zertifizierungssystemen?\n\n 	Welche Rahmenbedingunge
 n brauchen GWÖ orientierte Unternehmen\, um ihre Wettbewerbsfähigkeit e
 rhalten zu können?\n\n 	Wie werden GWÖ Unternehmen zu Multiplikatoren d
 er sozial-ökologischen Transformation?\n\n 	Wie können die Unternehmen 
 in NRW sich mithilfe der GWÖ auf die sich mittelfristig verändernden Ra
 hmenbedingungen durch die EU vorbereiten?\n\nDie Veranstaltungsreihe wird
  sich dem Thema in drei Schritten nähern:\n\n 	Im November 2023 wurden d
 ie Grundlagen der Gemeinwohl-Ökonomie und des Wirtschaftens innerhalb pl
 anetarer Grenzen gelegt.\n\n 	Im Februar 2024 wird der Blick auf die Unte
 rnehmerpraxis in NRW geworfen und die Herausforderungen\, Chancen und For
 derungen aus der Praxisperspektive erarbeitet.\n\n 	Im Juni 2024 wird es 
 um die Rolle des Parlaments in der sozial-ökologischen Wirtschaftstransf
 ormation gehen. Es werden die Theorie- und Praxisperspektiven der ersten 
 Termine zusammengeführt.
CLASS:PUBLIC
DTSTART;TZID=Europe/Berlin:20240202T150000
DTEND;TZID=Europe/Berlin:20240202T190000
DTSTAMP:20260422T060050
END:VEVENT
END:VCALENDAR